BEGIN:VCALENDAR
VERSION:2.0
PRODID:-//eventon.com NONSGML v1.0//EN
CALSCALE:GREGORIAN
METHOD:PUBLISH
BEGIN:VEVENT
UID:69ea32b3cc0ff
DTSTAMP:20260423T145443Z
DTSTART:20260531T110000Z
DTEND:20260531T140000Z
LOCATION:Grande Anse
SUMMARY:EspaÃ±ol al Aire Libre â€“ Pratiquer l'espagnol Ã  Grande Anse avec Santiago
DESCRIPTION:Respirer\,  marcherâ€¦ et apprendre lâ€™espagnol Ã  La RÃ©union
  Et si vous appreniez lâ€™espagnol autrement\,  loin des salles de cours\, 
  en pleine nature ?Le 31 mai 2026\,  de 15h Ã  18h\,  Kâ€™Osez vous invite 
 Ã  une immersion PratiKâ€™Osez Ã  Grande Anse pour apprendre lâ€™espagnol Ã
   La RÃ©union en marchant\,  en Ã©changeantâ€¦[..]\nhttps://www.kosez.re/ev
 ents/pratiquer-espagnol-la-reunion-grande-anse/
URL:https://www.kosez.re/events/pratiquer-espagnol-la-reunion-grande-anse/
END:VEVENT
END:VCALENDAR