BEGIN:VCALENDAR
VERSION:2.0
PRODID:-//eventon.com NONSGML v1.0//EN
CALSCALE:GREGORIAN
METHOD:PUBLISH
BEGIN:VEVENT
UID:69ea31c1a6e7f
DTSTAMP:20260423T145041Z
DTSTART:20260531T050000Z
DTEND:20260531T080000Z
LOCATION:Grande Anse
SUMMARY:Pratiquer l’anglais à La Réunion : English Nature Escape à Grande Anse avec Séverine
DESCRIPTION:Pratiquer l’anglais à La Réunion : English Nature Escape à
  Grande Anse avec Séverine Introduction : respirer\,  marcher… et appren
 dre l’anglais à La Réunion Et si vous sortiez de la salle de classe pou
 r apprendre autrement ? Le 31 mai 2026\,  de 9h à 12h\,  K’Osez vous pro
 pose une expérience[..]\nhttps://www.kosez.re/events/pratiquer-langlais-a-
 la-reunion-english-nature-escape-a-grande-anse-avec-severine/
URL:https://www.kosez.re/events/pratiquer-langlais-a-la-reunion-english-nature-escape-a-grande-anse-avec-severine/
END:VEVENT
END:VCALENDAR