BEGIN:VCALENDAR
VERSION:2.0
PRODID:-//eventon.com NONSGML v1.0//EN
CALSCALE:GREGORIAN
METHOD:PUBLISH
BEGIN:VEVENT
UID:69ea17cbbcc09
DTSTAMP:20260423T125955Z
DTSTART:20260626T021300Z
DTEND:20260628T021300Z
LOCATION:Lieux divers
SUMMARY:Immersion Blossom in English
DESCRIPTION:Un weekend pour oser vivre en anglais – même si tu penses ê
 tre « nul.le » Tu rêves de voyager… mais tu paniques dès qu’il fa
 ut parler anglais. Tu as l’impression d’être “nul.le”\,  “trop v
 ieille”\,  ou “pas fait.e pour ça”. &#8230;Et pourtant\,  quelque pa
 rt en toi\,  il y a ce désir d’oser.[..]\nhttps://www.kosez.re/events/im
 mersion-en-anglais-blossom-in-english/
URL:https://www.kosez.re/events/immersion-en-anglais-blossom-in-english/
END:VEVENT
END:VCALENDAR