BEGIN:VCALENDAR
VERSION:2.0
PRODID:-//eventon.com NONSGML v1.0//EN
CALSCALE:GREGORIAN
METHOD:PUBLISH
BEGIN:VEVENT
UID:69ea318c3f8d8
DTSTAMP:20260423T144948Z
DTSTART:20260531T110000Z
DTEND:20260531T120000Z
LOCATION:Mont Vert
SUMMARY:Pron'Lab\,  atelier de prononciation espagnole - la diversité des accents hispanophones
DESCRIPTION:Pron&rsquo;Lab : Comprendre et apprécier la diversité des ac
 cents hispanophones avec le Pron’Lab Informations pratiques: Titre de l&r
 squo;événement: Comprendre et apprécier la diversité des accents hispan
 ophones avec le Pron’Lab Date &amp; Horaire: Le 31 mai de 15h à 16h  Li
 eu: Grande Anse\,  en nature ! Public: Ouvert aux personnes inscrites au[..
 ]\nhttps://www.kosez.re/events/pronlab-atelier-de-prononciation-espagnole-d
 iversite-accents-espagnol/
URL:https://www.kosez.re/events/pronlab-atelier-de-prononciation-espagnole-diversite-accents-espagnol/
END:VEVENT
END:VCALENDAR