BEGIN:VCALENDAR
VERSION:2.0
PRODID:-//eventon.com NONSGML v1.0//EN
CALSCALE:GREGORIAN
METHOD:PUBLISH
BEGIN:VEVENT
UID:69e5eec1db907
DTSTAMP:20260420T091545Z
DTSTART:20260810T133000Z
DTEND:20270328T150000Z
LOCATION:Lieux divers
SUMMARY:Programme Immersif Blossom in English
DESCRIPTION:Vous rêvez de parler anglais librement\,  mais la peur vous fa
 it taire… Le cœur qui s’emballe\,  les mots coincés au bord des lèvr
 es dès qu’il faut s’exprimer en anglais ? La honte de l’erreur :
  vous préférez encore vous taire plutôt que d’être jugé·e. Opportun
 ités manquées : réunions internationales\,  voyages\,  projets pros…
  et[..]\nhttps://www.kosez.re/events/programme-immersif-blossom-in-english-
 sept25/
URL:https://www.kosez.re/events/programme-immersif-blossom-in-english-sept25/
END:VEVENT
END:VCALENDAR