BEGIN:VCALENDAR
VERSION:2.0
PRODID:-//eventon.com NONSGML v1.0//EN
CALSCALE:GREGORIAN
METHOD:PUBLISH
BEGIN:VEVENT
UID:69ea38857473a
DTSTAMP:20260423T151933Z
DTSTART:20250321
DTEND:20250322
LOCATION:Villa Ã  Saint Pierre
SUMMARY:Immersion Blossom en EspaÃ±ol
DESCRIPTION:Une immersion en espagnol unique Ã  la RÃ©union (Incluse dans l
 e programme BLOSSOM en espaÃ±ol) Cette immersion est pour vous si vous souh
 aitez&#8230; Oser parler espagnol &#8230;dans un cadre bienveillant et ress
 ourÃ§ant\,  avec une Ã©quipe de professionnels qualifiÃ©s Pratiquer pratiqu
 er pratiquer &#8230;dans des situations rÃ©elles\,  en faisant des activitÃ
 ©s ludiques[..]\nhttps://www.kosez.re/events/immersion-blossom-en-espanol/
URL:https://www.kosez.re/events/immersion-blossom-en-espanol/
END:VEVENT
END:VCALENDAR