BEGIN:VCALENDAR
VERSION:2.0
PRODID:-//eventon.com NONSGML v1.0//EN
CALSCALE:GREGORIAN
METHOD:PUBLISH
BEGIN:VEVENT
UID:69ea3310d0acf
DTSTAMP:20260423T145616Z
DTSTART:20260531T050000Z
DTEND:20260531T060000Z
LOCATION:La Maison Nomade 58 Rue Antoine de Bertin\,  Saint-Paul 97434\,  La Réunion
SUMMARY:Pron'Lab : Atelier ludique de prononciation - bien prononcer le 'i' en anglais
DESCRIPTION:Pron&rsquo;Lab : Atelier ludique de prononciation anglaise &#82
 11; bien prononcer le &lsquo;i&rsquo; en anglais Vous avez déjà dit live 
 (vivre) au lieu de leave (partir) ? Ou prononcé live (en direct) comme lai
 ve et vu l’incompréhension dans les yeux de votre interlocuteur ? Rassur
 ez-vous\,  vous n’êtes pas seul(e). Ces erreurs[..]\nhttps://www.kosez.r
 e/events/pronlab-atelier-ludique-de-pratique-de-la-prononciation-anglaise-2
 /
URL:https://www.kosez.re/events/pronlab-atelier-ludique-de-pratique-de-la-prononciation-anglaise-2/
END:VEVENT
END:VCALENDAR