BEGIN:VCALENDAR
VERSION:2.0
PRODID:-//eventon.com NONSGML v1.0//EN
CALSCALE:GREGORIAN
METHOD:PUBLISH
BEGIN:VEVENT
UID:69e74044988fd
DTSTAMP:20260421T091548Z
DTSTART:20240601T090000Z
DTEND:20240601T120000Z
LOCATION:Piton St Leu
SUMMARY:Voyage linguistique et culinaire en anglais : Rencontre avec Cobie de l'Australie
DESCRIPTION:Voyage linguistique et culinaire en anglais : Rencontre avec Co
 bie de l&rsquo;Australie Informations Pratiques sur ce Voyage Linguistique 
 Date &amp; Horaire: Le 1er juin 2024\,  de 13h à 16h Lieu: Piton St Leu Pu
 blic: Ouvert aux personnes inscrites au parcours BLOSSOM English Journey de
  six mois ou ayant déjà un[..]\nhttps://www.kosez.re/events/voyage-lingui
 stique-et-culinaire-avec-cobie-d-australie/
URL:https://www.kosez.re/events/voyage-linguistique-et-culinaire-avec-cobie-d-australie/
END:VEVENT
END:VCALENDAR